BEGIN:VCALENDAR
VERSION:2.0
PRODID:-//wp-events-plugin.com//7.2.3.1//EN
TZID:America/New_York
X-WR-TIMEZONE:America/New_York
BEGIN:VEVENT
UID:2960@mariettaohio.org
DTSTART;TZID=America/New_York:20260807T120000
DTEND;TZID=America/New_York:20260807T130000
DTSTAMP:20260330T135932Z
URL:https://mariettaohio.org/events/discovering-history-frugal-frontier-li
 ving-scarcity-waste-and-the-first-recycling-revolution/
SUMMARY:Discovering History: Frugal Frontier Living: Scarcity\, Waste\, and
  the First Recycling Revolution
DESCRIPTION:This immersive museum program uses Marietta’s 1788 frontier h
 istory to demonstrate how early settlers lived with minimal waste\, contra
 sted with modern landfill systems and long-term material impact.\n\nRyan H
 olter is a Marietta resident teacher\, and volunteer presenting with a sha
 red passion in local history and a lifelong devotion to environmental educ
 ation.\n\nThis event is sponsored by the Washington County Public Library\
 , is FREE and open to the public\, and will be livestreamed/recorded on ou
 r YouTube Channel @CampusMartiusMuseum
ATTACH;FMTTYPE=image/jpeg:https://mariettaohio.org/wp-content/uploads/2026
 /03/Holter-Graphic.png
CATEGORIES:Events,Historical
LOCATION:Campus Martius Museum\, 601 Second Street\, Marietta\, Ohio\, 4575
 0\, United States
X-APPLE-STRUCTURED-LOCATION;VALUE=URI;X-ADDRESS=601 Second Street\, Mariett
 a\, Ohio\, 45750\, United States;X-APPLE-RADIUS=100;X-TITLE=Campus Martius
  Museum:geo:0,0
END:VEVENT
BEGIN:VTIMEZONE
TZID:America/New_York
X-LIC-LOCATION:America/New_York
BEGIN:DAYLIGHT
DTSTART:20260308T030000
TZOFFSETFROM:-0500
TZOFFSETTO:-0400
TZNAME:EDT
END:DAYLIGHT
END:VTIMEZONE
END:VCALENDAR