BEGIN:VCALENDAR
VERSION:2.0
PRODID:-//wp-events-plugin.com//7.2.3.1//EN
TZID:America/New_York
X-WR-TIMEZONE:America/New_York
BEGIN:VEVENT
UID:3014@mariettaohio.org
DTSTART;TZID=America/New_York:20261204T170000
DTEND;TZID=America/New_York:20261204T210000
DTSTAMP:20260401T173530Z
URL:https://mariettaohio.org/events/december-first-friday-moonlight-madnes
 s-2/
SUMMARY:December First Friday: Moonlight Madness
DESCRIPTION:Downtown First Friday events take place the first Friday of eve
 ry month from 5 p.m. to 9 p.m. February through December. Highlights of th
 ese events include shops open late\, local artists and musicians\, area or
 ganizations\, and various happenings around town.\nEach First Friday is a 
 celebration of our local community and an opportunity for locals\, tourist
 s\, and area groups to show their support for our town\, have fun\, and en
 joy the beauty of vibrant\, historic downtown Marietta!\nPlus\, thanks to 
 Artsbridge and others\, each First Friday features Kid Central on the lawn
  of the Armory with fun activities for kiddos to enjoy.
ATTACH;FMTTYPE=image/jpeg:https://mariettaohio.org/wp-content/uploads/2026
 /04/11.webp
CATEGORIES:Community,Events
LOCATION:Armory Square Lawn\, 241 Front Street\, Marietta\, OH\, 45750\, Un
 ited States
GEO:39.413178;-81.455321
X-APPLE-STRUCTURED-LOCATION;VALUE=URI;X-ADDRESS=241 Front Street\, Marietta
 \, OH\, 45750\, United States;X-APPLE-RADIUS=100;X-TITLE=Armory Square Law
 n:geo:39.413178,-81.455321
END:VEVENT
BEGIN:VTIMEZONE
TZID:America/New_York
X-LIC-LOCATION:America/New_York
BEGIN:STANDARD
DTSTART:20261101T010000
TZOFFSETFROM:-0400
TZOFFSETTO:-0500
TZNAME:EST
END:STANDARD
END:VTIMEZONE
END:VCALENDAR