BEGIN:VCALENDAR
VERSION:2.0
PRODID:-//wp-events-plugin.com//7.2.3.1//EN
TZID:America/New_York
X-WR-TIMEZONE:America/New_York
BEGIN:VEVENT
UID:3016@mariettaohio.org
DTSTART;TZID=America/New_York:20261215T173000
DTEND;TZID=America/New_York:20261215T180000
DTSTAMP:20260401T174014Z
URL:https://mariettaohio.org/events/december-cash-mob-2/
SUMMARY:December Cash Mob
DESCRIPTION:Cash Mobs are the perfect way to shop local\, have fun\, and me
 et new people in our community all at the same time.\nEach Cash Mob event 
 focuses on supporting a local business in downtown Marietta. Once particip
 ants show up at the initial meeting location\, clues will be provided to l
 earn the surprise location of the evening's Cash Mob event!\nAll Cash Mob 
 participants are asked to spend a minimum of $10 in each location.\n*Initi
 al meeting location will be the Armory located at 241 Front Street*
ATTACH;FMTTYPE=image/jpeg:https://mariettaohio.org/wp-content/uploads/2026
 /04/2026CashMobSquares10.webp
CATEGORIES:Community,Shopping
LOCATION:Armory Square Lawn\, 241 Front Street\, Marietta\, OH\, 45750\, Un
 ited States
GEO:39.413178;-81.455321
X-APPLE-STRUCTURED-LOCATION;VALUE=URI;X-ADDRESS=241 Front Street\, Marietta
 \, OH\, 45750\, United States;X-APPLE-RADIUS=100;X-TITLE=Armory Square Law
 n:geo:39.413178,-81.455321
END:VEVENT
BEGIN:VTIMEZONE
TZID:America/New_York
X-LIC-LOCATION:America/New_York
BEGIN:STANDARD
DTSTART:20261101T010000
TZOFFSETFROM:-0400
TZOFFSETTO:-0500
TZNAME:EST
END:STANDARD
END:VTIMEZONE
END:VCALENDAR