BEGIN:VCALENDAR
VERSION:2.0
PRODID:-//wp-events-plugin.com//7.2.3.1//EN
TZID:America/New_York
X-WR-TIMEZONE:America/New_York
BEGIN:VEVENT
UID:2078@mariettaohio.org
DTSTART;TZID=America/New_York:20250405T200000
DTEND;TZID=America/New_York:20250405T220000
DTSTAMP:20250114T132950Z
URL:https://mariettaohio.org/events/dark-side-of-the-moon-2/
SUMMARY:Dark Side of the Moon
DESCRIPTION:Beyond a tribute\, Dark Side of the Moon is a testimonial to th
 e unique music of Pink Floyd and the emotions they stir. Dark Side of the 
 Moon recreates\, to a higher degree\, the mystic and terrestrial sounds of
  the phenomenon that is Pink Floyd.\n\nThey offer a pleasant distraction f
 rom the mundane. Enjoy a felicitous encounter with those sights and sounds
 \, while Dark Side of the Moon emulates the magical and emotional experien
 ces that Pink Floyd created for so many years.\n\nClose your eyes\; it’s
  like being there again. Let Dark Side of the Moon reawaken your authentic
  concert experience or create a new one.\n\nLearn more at Darksidetribute.
 com.
ATTACH;FMTTYPE=image/jpeg:https://mariettaohio.org/wp-content/uploads/2025
 /01/dark-side-495.png
CATEGORIES:Arts &amp; Entertainment,Music
LOCATION:Peoples Bank Theatre\, 222 Putnam St\, Marietta\, Ohio\, 45750\, U
 nited States
GEO:39.415852;-81.453433
X-APPLE-STRUCTURED-LOCATION;VALUE=URI;X-ADDRESS=222 Putnam St\, Marietta\, 
 Ohio\, 45750\, United States;X-APPLE-RADIUS=100;X-TITLE=Peoples Bank Theat
 re:geo:39.415852,-81.453433
END:VEVENT
BEGIN:VTIMEZONE
TZID:America/New_York
X-LIC-LOCATION:America/New_York
BEGIN:DAYLIGHT
DTSTART:20250309T030000
TZOFFSETFROM:-0500
TZOFFSETTO:-0400
TZNAME:EDT
END:DAYLIGHT
END:VTIMEZONE
END:VCALENDAR