BEGIN:VCALENDAR
VERSION:2.0
PRODID:-//wp-events-plugin.com//7.2.3.1//EN
TZID:America/New_York
X-WR-TIMEZONE:America/New_York
BEGIN:VEVENT
UID:940@mariettaohio.org
DTSTART;TZID=America/New_York:20231118T200000
DTEND;TZID=America/New_York:20231118T234500
DTSTAMP:20230727T124804Z
URL:https://mariettaohio.org/events/coops-nightmare/
SUMMARY:Coop's Nightmare
DESCRIPTION:The Adelphia Music Hall welcomes Coop's Nightmare to the Stage.
  Coop's Nightmare is Ohio's only Alice Cooper Tribute Band. With stage pro
 ps\, costume changes\, and actors you will experience the thrill and excit
 ement of seeing an actual live concert.
ATTACH;FMTTYPE=image/jpeg:https://mariettaohio.org/wp-content/uploads/2023
 /07/03138-ADL-Web-Feature.jpg
CATEGORIES:Music
LOCATION:The Adelphia Music Hall\, 205 2nd St\, Marietta\, OH\, 45750\, Uni
 ted States
GEO:39.413719;-81.453701
X-APPLE-STRUCTURED-LOCATION;VALUE=URI;X-ADDRESS=205 2nd St\, Marietta\, OH\
 , 45750\, United States;X-APPLE-RADIUS=100;X-TITLE=The Adelphia Music Hall
 :geo:39.413719,-81.453701
END:VEVENT
BEGIN:VTIMEZONE
TZID:America/New_York
X-LIC-LOCATION:America/New_York
BEGIN:STANDARD
DTSTART:20231105T010000
TZOFFSETFROM:-0400
TZOFFSETTO:-0500
TZNAME:EST
END:STANDARD
END:VTIMEZONE
END:VCALENDAR