BEGIN:VCALENDAR
VERSION:2.0
PRODID:-//wp-events-plugin.com//7.2.3.1//EN
TZID:America/New_York
X-WR-TIMEZONE:America/New_York
BEGIN:VEVENT
UID:2268@mariettaohio.org
DTSTART;TZID=America/New_York:20250614T110000
DTEND;TZID=America/New_York:20250614T160000
DTSTAMP:20250506T194839Z
URL:https://mariettaohio.org/events/community-festival/
SUMMARY:Community Festival
DESCRIPTION:Celebrating our flag\, freedom\, and constitution.
ATTACH;FMTTYPE=image/jpeg:https://mariettaohio.org/wp-content/uploads/2025
 /05/Community-Fest.jpg
CATEGORIES:Festivals
LOCATION:East Muskingum Park\, East Muskingum Park\, Marietta\, Ohio\, 4575
 0\, United States
GEO:39.4149549;-81.4570803
X-APPLE-STRUCTURED-LOCATION;VALUE=URI;X-ADDRESS=East Muskingum Park\, Marie
 tta\, Ohio\, 45750\, United States;X-APPLE-RADIUS=100;X-TITLE=East Musking
 um Park:geo:39.4149549,-81.4570803
END:VEVENT
BEGIN:VTIMEZONE
TZID:America/New_York
X-LIC-LOCATION:America/New_York
BEGIN:DAYLIGHT
DTSTART:20250309T030000
TZOFFSETFROM:-0500
TZOFFSETTO:-0400
TZNAME:EDT
END:DAYLIGHT
END:VTIMEZONE
END:VCALENDAR