BEGIN:VCALENDAR
VERSION:2.0
PRODID:-//wp-events-plugin.com//7.2.3.1//EN
TZID:America/New_York
X-WR-TIMEZONE:America/New_York
BEGIN:VEVENT
UID:2080@mariettaohio.org
DTSTART;TZID=America/New_York:20250125T200000
DTEND;TZID=America/New_York:20250125T220000
DTSTAMP:20250114T180310Z
URL:https://mariettaohio.org/events/comedy-club-at-the-lafayette-hotel-9/
SUMMARY:Comedy Club. at The Lafayette Hotel
DESCRIPTION:Ohio’s longest running Comedy Show—The Comedy Club at The L
 afayette Hotel will be having yet another show—that's January 25th—at 
 8:00PM. Do you have your tickets yet? Don't miss this hysterical show for 
 an evening of side-splitting FUN! You can get tickets by calling (740) 373
 -5522 or by visiting Eventbrite.com
ATTACH;FMTTYPE=image/jpeg:https://mariettaohio.org/wp-content/uploads/2025
 /01/Screen-Shot-2024-10-30-at-12.04.12-PM.png
CATEGORIES:Arts &amp; Entertainment
LOCATION:The Lafayette Hotel\, 101 Front Street\, Marietta\, Ohio\, 45750\,
  United States
X-APPLE-STRUCTURED-LOCATION;VALUE=URI;X-ADDRESS=101 Front Street\, Marietta
 \, Ohio\, 45750\, United States;X-APPLE-RADIUS=100;X-TITLE=The Lafayette H
 otel:geo:0,0
END:VEVENT
BEGIN:VTIMEZONE
TZID:America/New_York
X-LIC-LOCATION:America/New_York
BEGIN:STANDARD
DTSTART:20241103T010000
TZOFFSETFROM:-0400
TZOFFSETTO:-0500
TZNAME:EST
END:STANDARD
END:VTIMEZONE
END:VCALENDAR