BEGIN:VCALENDAR
VERSION:2.0
PRODID:-//wp-events-plugin.com//7.2.3.1//EN
TZID:America/New_York
X-WR-TIMEZONE:America/New_York
BEGIN:VEVENT
UID:944@mariettaohio.org
DTSTART;TZID=America/New_York:20230809T130000
DTEND;TZID=America/New_York:20230809T140000
DTSTAMP:20230803T130900Z
URL:https://mariettaohio.org/events/columbus-zoo-to-you-marietta-branch-at
 -the-campus-martius-museum-2/
SUMMARY:Columbus Zoo to You - Marietta Branch at the Campus Martius Museum
DESCRIPTION:On Wednesday\, August 9 at 1 pm\, the Columbus Zoo will visit w
 ith 5-7 animals\, presented one at a time\, while a handler speaks about t
 he animal’s habitat\, its status in their native range\, conservation is
 sues\, and more. The length of this program is 30-45 minutes with time for
  questions. No registration is required. This event will be held at the Ca
 mpus Martius Museum\, 601 Second Street\, Marietta. Questions? Call the Ma
 rietta Branch at 740-373-1057 x606. Brought to you by the Washington Count
 y Public Library.
CATEGORIES:Community
LOCATION:Campus Martius Museum\, 601 Second Street\, Marietta\, Ohio\, 4575
 0\, United States
X-APPLE-STRUCTURED-LOCATION;VALUE=URI;X-ADDRESS=601 Second Street\, Mariett
 a\, Ohio\, 45750\, United States;X-APPLE-RADIUS=100;X-TITLE=Campus Martius
  Museum:geo:0,0
END:VEVENT
BEGIN:VTIMEZONE
TZID:America/New_York
X-LIC-LOCATION:America/New_York
BEGIN:DAYLIGHT
DTSTART:20230312T030000
TZOFFSETFROM:-0500
TZOFFSETTO:-0400
TZNAME:EDT
END:DAYLIGHT
END:VTIMEZONE
END:VCALENDAR