BEGIN:VCALENDAR
VERSION:2.0
PRODID:-//wp-events-plugin.com//7.2.3.1//EN
TZID:America/New_York
X-WR-TIMEZONE:America/New_York
BEGIN:VEVENT
UID:933@mariettaohio.org
DTSTART;TZID=America/New_York:20230810T100000
DTEND;TZID=America/New_York:20230810T110000
DTSTAMP:20230721T125239Z
URL:https://mariettaohio.org/events/columbus-zoo-to-you-beverly-branch-at-
 waterford-elementary/
SUMMARY:Columbus Zoo to You - Beverly Branch at Waterford Elementary
DESCRIPTION:On Thursday\, August 10 at 10 am\, the Columbus Zoo will visit 
 with 5-7 animals\, presented one at a time\, while a handler speaks about 
 the animal’s habitat\, its status in their native range\, conservation i
 ssues\, and more. The length of this program is 30-45 minutes with time fo
 r questions. No registration is required. This event will be held at Water
 ford Elementary School located at 19701 State Route 339\, Waterford. Quest
 ions? Call the Beverly Branch at 740-984-4060.
CATEGORIES:Events
END:VEVENT
BEGIN:VTIMEZONE
TZID:America/New_York
X-LIC-LOCATION:America/New_York
BEGIN:DAYLIGHT
DTSTART:20230312T030000
TZOFFSETFROM:-0500
TZOFFSETTO:-0400
TZNAME:EDT
END:DAYLIGHT
END:VTIMEZONE
END:VCALENDAR