BEGIN:VCALENDAR
VERSION:2.0
PRODID:-//wp-events-plugin.com//7.2.3.1//EN
TZID:America/New_York
X-WR-TIMEZONE:America/New_York
BEGIN:VEVENT
UID:934@mariettaohio.org
DTSTART;TZID=America/New_York:20230810T140000
DTEND;TZID=America/New_York:20230810T150000
DTSTAMP:20230721T125222Z
URL:https://mariettaohio.org/events/columbus-zoo-to-you-belpre-branch-at-t
 he-belpre-bingo-hall/
SUMMARY:Columbus Zoo to You - Belpre Branch at the Belpre Bingo Hall
DESCRIPTION:On Thursday\, August 10 at 2 pm\, the Columbus Zoo will visit w
 ith 5-7 animals\, presented one at a time\, while a handler speaks about t
 he animal’s habitat\, its status in their native range\, conservation is
 sues\, and more. The length of this program is 30-45 minutes with time for
  questions. This event will be held at the Belpre Bingo Hall located at 13
 3 Stone Rd\, Belpre. Registration is required. To register\, call the Belp
 re Branch at 740-423-8381.
CATEGORIES:Events
LOCATION:Belpre Bingo Hall\, 133 Stone Road\, Belpre\, OH\, 45714\, United 
 States
X-APPLE-STRUCTURED-LOCATION;VALUE=URI;X-ADDRESS=133 Stone Road\, Belpre\, O
 H\, 45714\, United States;X-APPLE-RADIUS=100;X-TITLE=Belpre Bingo Hall:geo
 :0,0
END:VEVENT
BEGIN:VTIMEZONE
TZID:America/New_York
X-LIC-LOCATION:America/New_York
BEGIN:DAYLIGHT
DTSTART:20230312T030000
TZOFFSETFROM:-0500
TZOFFSETTO:-0400
TZNAME:EDT
END:DAYLIGHT
END:VTIMEZONE
END:VCALENDAR