BEGIN:VCALENDAR
VERSION:2.0
PRODID:-//wp-events-plugin.com//7.2.3.1//EN
TZID:America/New_York
X-WR-TIMEZONE:America/New_York
BEGIN:VEVENT
UID:930@mariettaohio.org
DTSTART;TZID=America/New_York:20230921T180000
DTEND;TZID=America/New_York:20230921T234500
DTSTAMP:20230719T133707Z
URL:https://mariettaohio.org/events/collective-soul/
SUMMARY:Collective Soul
DESCRIPTION:Ed Roland - vocals / guitar. Dean Roland – rhythm guitar. Jes
 se Triplett – lead guitar / background vocals. Will Turpin – bass / ba
 ckground vocals. Johnny Rabb – drums / background vocals.\n\nIt’s prob
 ably (well\, definitely) somewhat of an understatement to say Collective S
 oul frontman and chief songwriter Ed Roland is unwaveringly driven in his 
 desire to double down on doing more of what he does best — making music\
 , sweet music\, both in the studio and onstage.\n\n“People ask me if I h
 ave a hobby\, but for me\, it’s just music\,” Roland confirms. “I me
 an\, I don’t know what else to do\, because that’s what I love to do. 
 I live in the studio — but then the time comes when I go\, ‘Well\, now
  I wanna go play live.’ I just love the creation of music\, and the proc
 ess of finding out what’s gonna happen with it next. That kinda defines 
 it all for me.”\n\nIn following his ever-tenacious muse\, Roland is alwa
 ys looking to connect with his current Collective Soul bandmates any which
  way he can. Actually\, the word current is a bit of a misnomer\, since Ro
 land truly believes the Collective Soul of the here and now is as permanen
 tly intertwined as any group of musicians he’s ever worked with over the
  course of his illustrious career. “It’s worth noting See What You Sta
 rted by Continuing was really the demo for this band as it stands right no
 w\,” Roland points out\, referring to the 2015 album that realigned the 
 rock quintet’s creative compass. “I mean\, this is the band for the re
 st of my life. This is it\, man.”\n\nIndeed\, if a) 2015’s aforementio
 ned See What You Started by Continuing was the reset blueprint for how a r
 evamped and revitalized five-man lineup fully gels as a unit\, and b) 2019
 ’s Blood was the ensuing coagulant further infused by an in-tune rock en
 semble clearly firing on all corpuscles\, then c) Collective Soul’s upco
 ming\, long-awaited 2022 album release Vibrating simply sends the band’s
  artistic spirit into the next stratosphere.\n\n“Our fans have already p
 icked up on that\,” agrees Roland\, “because they’ve been waiting fo
 r Vibrating for almost three years now — and I can’t wait for them to 
 hear it. They’re excited because both See What You Started and Blood set
  such a high standard for where we’re going as a band — and it’s onl
 y going to continue getting better with Vibrating. I really do believe tha
 t.”\n\nYou can believe it too\, for the proof lies within the new album
 ’s deeply delineated grooves. Fact is\, Vibrating positively pulsates wi
 th the boundless energy that has been Collective Soul’s aural calling ca
 rd for going on three full decades. From the propulsively gnarly kiss-off 
 of “Cut the Cord” to the reflective midtempo jangle of “Take” to t
 he heart-wrenching reality check of “Rule #1” — replete with a soari
 ng string section\, no less! — to the choir-backed emotional crossroads 
 of “Where Do I Go\,” Vibrating contains 42 minutes of irrefutable soni
 c evidence of a band wholly uninterested in sitting still. “I think we
 ’re on a roll\,” observes Roland. “We’re not afraid to stretch the
  boundaries — but we do know how to stay in our lane when we need to. So
 metimes\, though\, we just have to go faster.”\n\nThe next logical accel
 eratory step\, of course\, resides in taking Vibrating out on the road whe
 re the band belongs\, and test-driving how this electrifying new material 
 meshes with indelible Collective Soul setlist classics like “Shine\,” 
 “December\,” “The World I Know\,” “Gel\,” “AYTA\,” “Why\
 , Pt. 2\,” “Precious Declaration\,” and “Heavy” — in addition 
 to more recent\, Blood-spawned tracks like “Right as Rain\,” “Observ
 ation of Thoughts\,” and “Over Me.”\n\n“We’re ready to go\,” d
 eclares Roland. “Most of us grew up together and knew each other as kids
 \, so that helps with the live chemistry. I’ve always said this about th
 is band — we know when to knock each other out\, and we know when to hug
  each other. We won’t put up with any crap\, but if you’re feeling dow
 n and need help\, we’ll pick you up. We’re coming up on 30 years as a 
 band\, so we have to be friends first and foremost to keep it all going. I
 f we aren’t friends like that\, then we’re not going to have longevity
  in our career in order to continue doing what we love to do. That’s jus
 t the bottom line.”\n\nSeeing eye to eye\, and ear to ear\, is part of t
 he secret sauce of why Collective Soul continues to both record and play t
 ogether at an uncompromised level of high quality. “That’s the end goa
 l for everybody in this band\,” agrees Roland. “Just because I write t
 he songs doesn’t mean I’m the only one who wants it all to come out ri
 ght. We all want it to be right — and that’s because this is a band th
 at acts like a band.”\n\nWorking in tandem\, sharing unbridled opinions\
 , and listening to what everyone else has to say without recrimination are
  all key proponents in fostering Collective Soul’s perpetual harmony. 
 “That’s the forte of this band\,” Roland acknowledges. “We discuss
  things together\, we figure them out together\, and we make sure to get e
 verything right. That’s how we love to do it. And I say this out of conf
 idence\, and not out of ego — we’re really\, really good at it\, too.
 ”\n\nYou’ll get no arguments here. As 2022 unfurls\, it’s clear heav
 en continues to shine its light down on Collective Soul\, a formidable fiv
 e-man band humming along in unison with many more good vibrations of their
  own to share with the masses far and wide. There’s a reason Collective 
 Soul are made for me and you — so be sure to see and hear them for yours
 elf first-hand\, the next time they make their presence known in your neck
  of the woods.
ATTACH;FMTTYPE=image/jpeg:https://mariettaohio.org/wp-content/uploads/2023
 /07/SCS-03310-collective-soul-main.jpg
CATEGORIES:Music
LOCATION:The Adelphia Music Hall\, 205 2nd St\, Marietta\, OH\, 45750\, Uni
 ted States
GEO:39.413719;-81.453701
X-APPLE-STRUCTURED-LOCATION;VALUE=URI;X-ADDRESS=205 2nd St\, Marietta\, OH\
 , 45750\, United States;X-APPLE-RADIUS=100;X-TITLE=The Adelphia Music Hall
 :geo:39.413719,-81.453701
END:VEVENT
BEGIN:VTIMEZONE
TZID:America/New_York
X-LIC-LOCATION:America/New_York
BEGIN:DAYLIGHT
DTSTART:20230312T030000
TZOFFSETFROM:-0500
TZOFFSETTO:-0400
TZNAME:EDT
END:DAYLIGHT
END:VTIMEZONE
END:VCALENDAR