BEGIN:VCALENDAR
VERSION:2.0
PRODID:-//wp-events-plugin.com//7.2.3.1//EN
TZID:America/New_York
X-WR-TIMEZONE:America/New_York
BEGIN:VEVENT
UID:2849@mariettaohio.org
DTSTART;TZID=America/New_York:20260807T200000
DTEND;TZID=America/New_York:20260808T000000
DTSTAMP:20260217T195709Z
URL:https://mariettaohio.org/events/colby-lee-swift/
SUMMARY:Colby Lee Swift
DESCRIPTION:With his deep-rooted\, traditional country sound and authentic\
 , heartfelt lyrics\, Colby Lee Swift is carving out his own path in the co
 untry music scene. Born and raised on a ranch in Midfield\, TX\, Swift's p
 assion for traditional country music and authentic storytelling often draw
 s comparisons to Johnny Cash and his sound is influenced by Texas country 
 music legends George Strait and John Conlee.\n\nSwift began playing the gu
 itar at age five\, singing at age 15 and performing at age 17. Swift relea
 sed his highly-anticipated single\, “Quit A Long Time Ago” on Septembe
 r 12\, on Hollow Point Records\, on the heels of his successful singles 
 “Can’t Outrun the Heartache\,” “John Deere Rust\,” “Money To D
 rank” and “Chaser” that peaked at #18 on the Texas Regional Radio Ch
 art in 2024\, catching the attention of William Morris Endeavor Entertainm
 ent and BMG Publishing. Swift had the privilege of working with multi-inst
 rumentalist &amp\; producer Brent Rader on these singles.\n\nSwift continu
 es to hone his craft as a songwriter and entertainer\, appearing all over 
 the country and on national television. Country fans will undoubtedly be w
 atching this talented young man as his country music journey continues to 
 unfold.
ATTACH;FMTTYPE=image/jpeg:https://mariettaohio.org/wp-content/uploads/2026
 /02/ADL-04659-Colby-Lee-Swift-WEB-FEATURE.jpg
CATEGORIES:Music
LOCATION:The Adelphia Music Hall\, 205 2nd St\, Marietta\, OH\, 45750\, Uni
 ted States
GEO:39.413719;-81.453701
X-APPLE-STRUCTURED-LOCATION;VALUE=URI;X-ADDRESS=205 2nd St\, Marietta\, OH\
 , 45750\, United States;X-APPLE-RADIUS=100;X-TITLE=The Adelphia Music Hall
 :geo:39.413719,-81.453701
END:VEVENT
BEGIN:VTIMEZONE
TZID:America/New_York
X-LIC-LOCATION:America/New_York
BEGIN:DAYLIGHT
DTSTART:20260308T030000
TZOFFSETFROM:-0500
TZOFFSETTO:-0400
TZNAME:EDT
END:DAYLIGHT
END:VTIMEZONE
END:VCALENDAR