BEGIN:VCALENDAR
VERSION:2.0
PRODID:-//wp-events-plugin.com//7.2.3.1//EN
TZID:America/New_York
X-WR-TIMEZONE:America/New_York
BEGIN:VEVENT
UID:1120@mariettaohio.org
DTSTART;TZID=America/New_York:20231216T183000
DTEND;TZID=America/New_York:20231216T203000
DTSTAMP:20231017T141457Z
URL:https://mariettaohio.org/events/christmas-on-broadway/
SUMMARY:Christmas on Broadway
DESCRIPTION:Celebrate Christmas with us at the Major/Riviera. Member of The
  Company at the Valley Gem will be presenting a fun\, music filled tribute
  to Christmas on Broadway for your enjoyment as you feast on delicious Chr
 istmas dinner buffet. Dinner show dates are December 16 and 21 at 6:30pm. 
 Reservations are required.
ATTACH;FMTTYPE=image/jpeg:https://mariettaohio.org/wp-content/uploads/2023
 /10/Christmas-Cabaret.jpg
CATEGORIES:Events
LOCATION:Major/Riviera\, 601 Front Street\, Marietta\, OH\, 45750\, United 
 States
X-APPLE-STRUCTURED-LOCATION;VALUE=URI;X-ADDRESS=601 Front Street\, Marietta
 \, OH\, 45750\, United States;X-APPLE-RADIUS=100;X-TITLE=Major/Riviera:geo
 :0,0
END:VEVENT
BEGIN:VTIMEZONE
TZID:America/New_York
X-LIC-LOCATION:America/New_York
BEGIN:STANDARD
DTSTART:20231105T010000
TZOFFSETFROM:-0400
TZOFFSETTO:-0500
TZNAME:EST
END:STANDARD
END:VTIMEZONE
END:VCALENDAR