BEGIN:VCALENDAR
VERSION:2.0
PRODID:-//wp-events-plugin.com//7.2.3.1//EN
TZID:America/New_York
X-WR-TIMEZONE:America/New_York
BEGIN:VEVENT
UID:1099@mariettaohio.org
DTSTART;TZID=America/New_York:20231223T120000
DTEND;TZID=America/New_York:20231223T140000
DTSTAMP:20231017T141934Z
URL:https://mariettaohio.org/events/charlie-brown-christmas/
SUMMARY:Charlie Brown Christmas
DESCRIPTION:Join us as we celebrate Christmas with Charlie Brown and Gang. 
 This event is family friendly and will include lunch\, crafts\, characters
  and a reading of “A Charlie Brown Christmas.” December 23\, 12-2pm\, 
 $36 for Adults\, $34 for Seniors\, $26 for Children
ATTACH;FMTTYPE=image/jpeg:https://mariettaohio.org/wp-content/uploads/2023
 /10/Charlie-Brown-Christmas.jpg
CATEGORIES:Events
LOCATION:Valley Gem Sternwheeler\, 601 Front St\, Marietta\, Ohio\, 45750\,
  United States
GEO:39.421017;-81.463989
X-APPLE-STRUCTURED-LOCATION;VALUE=URI;X-ADDRESS=601 Front St\, Marietta\, O
 hio\, 45750\, United States;X-APPLE-RADIUS=100;X-TITLE=Valley Gem Sternwhe
 eler:geo:39.421017,-81.463989
END:VEVENT
BEGIN:VTIMEZONE
TZID:America/New_York
X-LIC-LOCATION:America/New_York
BEGIN:STANDARD
DTSTART:20231105T010000
TZOFFSETFROM:-0400
TZOFFSETTO:-0500
TZNAME:EST
END:STANDARD
END:VTIMEZONE
END:VCALENDAR