BEGIN:VCALENDAR
VERSION:2.0
PRODID:-//wp-events-plugin.com//7.2.3.1//EN
TZID:America/New_York
X-WR-TIMEZONE:America/New_York
BEGIN:VEVENT
UID:1657@mariettaohio.org
DTSTART;TZID=America/New_York:20240614T183000
DTEND;TZID=America/New_York:20240614T203000
DTSTAMP:20240606T163056Z
URL:https://mariettaohio.org/events/captains-dinner-cruise-18/
SUMMARY:Captain's Dinner Cruise
DESCRIPTION:Enjoy a Captain’s Dinner Cruise buffet featuring our new Herb
  Crusted Tri Tip. Our served buffet offers two entrees\, two sides\, salad
 \, bread and dessert. Live entertainment will be presented from The Compan
 y. Entertainment will take place on the upper deck\, weather permitting\, 
 otherwise\, it will be held on the lower deck. Available May through Novem
 ber. Times and dates vary. This website has the most up to date informatio
 n. Reservations required.\n\nCall 740-373-7862 or select "Book Major/Rivie
 ra" at www.valleygemsternwheeler.com
ATTACH;FMTTYPE=image/jpeg:https://mariettaohio.org/wp-content/uploads/2024
 /06/Major-Riviera-Captains-Dinner.jpg
CATEGORIES:Events
END:VEVENT
BEGIN:VTIMEZONE
TZID:America/New_York
X-LIC-LOCATION:America/New_York
BEGIN:DAYLIGHT
DTSTART:20240310T030000
TZOFFSETFROM:-0500
TZOFFSETTO:-0400
TZNAME:EDT
END:DAYLIGHT
END:VTIMEZONE
END:VCALENDAR