BEGIN:VCALENDAR
VERSION:2.0
PRODID:-//wp-events-plugin.com//7.2.3.1//EN
TZID:America/New_York
X-WR-TIMEZONE:America/New_York
BEGIN:VEVENT
UID:1788@mariettaohio.org
DTSTART;TZID=America/New_York:20240919T173000
DTEND;TZID=America/New_York:20240919T183000
DTSTAMP:20240827T131514Z
URL:https://mariettaohio.org/events/c-a-l/
SUMMARY:C.A.L.
DESCRIPTION:On Thursday\, September 19 at 5:30 pm\, stop in and crochet. Ho
 oks and yarn will be provided. Don't know how to crochet\, we will teach y
 ou. This event is for teens and adults aged 13+. CAL will meet every third
  Thursday at 6 pm. Questions? Call 740-984-4060.
ATTACH;FMTTYPE=image/jpeg:https://mariettaohio.org/wp-content/uploads/2024
 /08/crochet-450724_1280.jpg
CATEGORIES:Community
LOCATION:Washington County Public Library - Beverly\, 300 McIntosh Street\,
  Beverly\, OH Ohio\, 45715\, United States
GEO:39.547312;-81.634118
X-APPLE-STRUCTURED-LOCATION;VALUE=URI;X-ADDRESS=300 McIntosh Street\, Bever
 ly\, OH Ohio\, 45715\, United States;X-APPLE-RADIUS=100;X-TITLE=Washington
  County Public Library - Beverly:geo:39.547312,-81.634118
END:VEVENT
BEGIN:VTIMEZONE
TZID:America/New_York
X-LIC-LOCATION:America/New_York
BEGIN:DAYLIGHT
DTSTART:20240310T030000
TZOFFSETFROM:-0500
TZOFFSETTO:-0400
TZNAME:EDT
END:DAYLIGHT
END:VTIMEZONE
END:VCALENDAR