BEGIN:VCALENDAR
VERSION:2.0
PRODID:-//wp-events-plugin.com//7.2.3.1//EN
TZID:America/New_York
X-WR-TIMEZONE:America/New_York
BEGIN:VEVENT
UID:2094@mariettaohio.org
DTSTART;TZID=America/New_York:20250419T090000
DTEND;TZID=America/New_York:20250419T110000
DTSTAMP:20250320T135340Z
URL:https://mariettaohio.org/events/bunny-brunch/
SUMMARY:Enjoy a delicious brunch and a visit with the Easter Bunny in our c
 harming Historic venue!
DESCRIPTION:Enjoy a delicious brunch and a visit with the Easter Bunny in o
 ur charming Historic venue!\n\nTwo seatings: 9 AM &amp\; 11 AM\n\nTickets:
  Child $16 | Adult $28\n\nIf you need a highchair or would like to request
  to sit with another party\, please email marketing@galleyadelphiahackett.
 com\n\nBrunch Menu\n\n• Mini Muffins\n• Focaccia French Toast with Wes
 t Virginia Maple Syrup\n• Eggs Benedict\n• Biscuits &amp\; Gravy\n• 
 Tri-Color Potato Hash\n• Crispy Applewood Smoked Bacon\n• Cheesy Scram
 bled Eggs\n• Coffee\, Tea and Juice
ATTACH;FMTTYPE=image/jpeg:https://mariettaohio.org/wp-content/uploads/2025
 /01/GAL-04309-Bunny-Brunch-04.19.25-SM2.jpg
CATEGORIES:Events
LOCATION:The Galley\, 203 2nd Street \, Marietta\, Ohio\, 45750\, United St
 ates
X-APPLE-STRUCTURED-LOCATION;VALUE=URI;X-ADDRESS=203 2nd Street \, Marietta\
 , Ohio\, 45750\, United States;X-APPLE-RADIUS=100;X-TITLE=The Galley:geo:0
 ,0
END:VEVENT
BEGIN:VTIMEZONE
TZID:America/New_York
X-LIC-LOCATION:America/New_York
BEGIN:DAYLIGHT
DTSTART:20250309T030000
TZOFFSETFROM:-0500
TZOFFSETTO:-0400
TZNAME:EDT
END:DAYLIGHT
END:VTIMEZONE
END:VCALENDAR