BEGIN:VCALENDAR
VERSION:2.0
PRODID:-//wp-events-plugin.com//7.2.3.1//EN
TZID:America/New_York
X-WR-TIMEZONE:America/New_York
BEGIN:VEVENT
UID:2848@mariettaohio.org
DTSTART;TZID=America/New_York:20260417T200000
DTEND;TZID=America/New_York:20260418T000000
DTSTAMP:20260217T195657Z
URL:https://mariettaohio.org/events/buffalo-wabs-the-price-hill-hustle/
SUMMARY:Buffalo Wabs &amp\; The Price Hill Hustle
DESCRIPTION:The Cincinnati-based ensemble Buffalo Wabs (as in ‘mobs’) a
 nd the Price Hill Hustle can be best described as ‘American’-- from th
 e mountains to Music Row\, blues-gospel to traditional country\, the Hustl
 e combines parts of the American-born genre catalogue to create an energet
 ic experience every single night.\n\nThis four-piece moves from fast-paced
 \, foot-stomping anthems to harmony-laden ballads and traditional dirges o
 f spirit and labor. “The group started around the love of music that mov
 es you\,” says drummer/vocalist and band spokesman\, Casey Campbell. “
 The music accompanies the story\; and sometimes the music is the story by 
 which we can all connect to one another.”\n\nThe members of Buffalo Wabs
  and the Price Hill Hustle are:\n\nMatt Wabnitz aka Buffalo Wabs - Lead gu
 itar\, lead vocal.\n\nCasey Campbell aka The Deacon - Drums/percussion\, v
 ocal\n\nScott Risner aka The Kentucky Waterfall - Mandolin\, vocal\, reson
 ator guitar\, tenor banjo\n\nBill Baldock aka Bullseye Bill - Upright bass
 \, vocal
ATTACH;FMTTYPE=image/jpeg:https://mariettaohio.org/wp-content/uploads/2026
 /02/ADL-04684-Buffalo-Wabs-FEATURE1.jpg
CATEGORIES:Music
LOCATION:The Adelphia Music Hall\, 205 2nd St\, Marietta\, OH\, 45750\, Uni
 ted States
GEO:39.413719;-81.453701
X-APPLE-STRUCTURED-LOCATION;VALUE=URI;X-ADDRESS=205 2nd St\, Marietta\, OH\
 , 45750\, United States;X-APPLE-RADIUS=100;X-TITLE=The Adelphia Music Hall
 :geo:39.413719,-81.453701
END:VEVENT
BEGIN:VTIMEZONE
TZID:America/New_York
X-LIC-LOCATION:America/New_York
BEGIN:DAYLIGHT
DTSTART:20260308T030000
TZOFFSETFROM:-0500
TZOFFSETTO:-0400
TZNAME:EDT
END:DAYLIGHT
END:VTIMEZONE
END:VCALENDAR