BEGIN:VCALENDAR
VERSION:2.0
PRODID:-//wp-events-plugin.com//7.2.3.1//EN
TZID:America/New_York
X-WR-TIMEZONE:America/New_York
BEGIN:VEVENT
UID:1665@mariettaohio.org
DTSTART;TZID=America/New_York:20240620T180000
DTEND;TZID=America/New_York:20240620T200000
DTSTAMP:20240606T163646Z
URL:https://mariettaohio.org/events/book-club-dinner-cruise/
SUMMARY:Book Club Dinner Cruise
DESCRIPTION:We will be meeting once a month to enjoy a delicious dinner tha
 t is some how connected to the story\, while talking about what we all tho
 ught about the book. This will be a full meal and we will all sit together
  and have great conversation and lovely food. A cash bar will be available
  with drink specials for the first hour. Coffee\, tea\, water and soda are
  included with your dinner. We will be cruising the second hour of the eve
 nt!\n\nReservations required. 740-373-7862
ATTACH;FMTTYPE=image/jpeg:https://mariettaohio.org/wp-content/uploads/2024
 /06/Riviera-Book-Club-Logo.jpg
CATEGORIES:Community
LOCATION:Major/Riviera\, 601 Front Street\, Marietta\, OH\, 45750\, United 
 States
X-APPLE-STRUCTURED-LOCATION;VALUE=URI;X-ADDRESS=601 Front Street\, Marietta
 \, OH\, 45750\, United States;X-APPLE-RADIUS=100;X-TITLE=Major/Riviera:geo
 :0,0
END:VEVENT
BEGIN:VTIMEZONE
TZID:America/New_York
X-LIC-LOCATION:America/New_York
BEGIN:DAYLIGHT
DTSTART:20240310T030000
TZOFFSETFROM:-0500
TZOFFSETTO:-0400
TZNAME:EDT
END:DAYLIGHT
END:VTIMEZONE
END:VCALENDAR