BEGIN:VCALENDAR
VERSION:2.0
PRODID:-//wp-events-plugin.com//7.2.3.1//EN
TZID:America/New_York
X-WR-TIMEZONE:America/New_York
BEGIN:VEVENT
UID:1318@mariettaohio.org
DTSTART;TZID=America/New_York:20240118T180000
DTEND;TZID=America/New_York:20240118T200000
DTSTAMP:20240109T184027Z
URL:https://mariettaohio.org/events/book-club-7/
SUMMARY:Book Club
DESCRIPTION:Join us Thursday Jan. 18th from 6-8pm to discuss “The Hunting
  Party.” By Lucy Foley. Tickets include dinner inspired by the book\, de
 ssert\, and fountain beverages.\n\n$25 for Adults\n$23 for Seniors 55+\n$1
 5 for Children (3-12 yrs)\n\nReserve by calling 740-373-7862 or by visitin
 g www.valleygemsternwheeler.com and selecting “book Major/Riviera”
ATTACH;FMTTYPE=image/jpeg:https://mariettaohio.org/wp-content/uploads/2024
 /01/Riviera-Book-Club-Logo.jpg
CATEGORIES:Community,Events
LOCATION:Major/Riviera\, 601 Front Street\, Marietta\, OH\, 45750\, United 
 States
X-APPLE-STRUCTURED-LOCATION;VALUE=URI;X-ADDRESS=601 Front Street\, Marietta
 \, OH\, 45750\, United States;X-APPLE-RADIUS=100;X-TITLE=Major/Riviera:geo
 :0,0
END:VEVENT
BEGIN:VTIMEZONE
TZID:America/New_York
X-LIC-LOCATION:America/New_York
BEGIN:STANDARD
DTSTART:20231105T010000
TZOFFSETFROM:-0400
TZOFFSETTO:-0500
TZNAME:EST
END:STANDARD
END:VTIMEZONE
END:VCALENDAR