BEGIN:VCALENDAR
VERSION:2.0
PRODID:-//wp-events-plugin.com//7.2.3.1//EN
TZID:America/New_York
X-WR-TIMEZONE:America/New_York
BEGIN:VEVENT
UID:1720@mariettaohio.org
DTSTART;TZID=America/New_York:20240815T180000
DTEND;TZID=America/New_York:20240815T193000
DTSTAMP:20240725T154447Z
URL:https://mariettaohio.org/events/book-club-12/
SUMMARY:Book Club
DESCRIPTION:Join our Book Club as we discuss Elizabeth Gilbert's "City of G
 irls". Our dinner will be inspired by the book itself. We will cruise and 
 enjoy dinner and conversation as well as select September's book.\n\nReser
 vations are required. Call 740-373-7862 or visit www.valleygemsternwheeler
 .com and select "Book Major/Riviera"
ATTACH;FMTTYPE=image/jpeg:https://mariettaohio.org/wp-content/uploads/2024
 /07/Riviera-Book-Club-Logo.jpg
CATEGORIES:Community
LOCATION:Major/Riviera\, 601 Front Street\, Marietta\, OH\, 45750\, United 
 States
X-APPLE-STRUCTURED-LOCATION;VALUE=URI;X-ADDRESS=601 Front Street\, Marietta
 \, OH\, 45750\, United States;X-APPLE-RADIUS=100;X-TITLE=Major/Riviera:geo
 :0,0
END:VEVENT
BEGIN:VTIMEZONE
TZID:America/New_York
X-LIC-LOCATION:America/New_York
BEGIN:DAYLIGHT
DTSTART:20240310T030000
TZOFFSETFROM:-0500
TZOFFSETTO:-0400
TZNAME:EDT
END:DAYLIGHT
END:VTIMEZONE
END:VCALENDAR