BEGIN:VCALENDAR
VERSION:2.0
PRODID:-//wp-events-plugin.com//7.2.3.1//EN
TZID:America/New_York
X-WR-TIMEZONE:America/New_York
BEGIN:VEVENT
UID:2292@mariettaohio.org
DTSTART;TZID=America/New_York:20250619T090000
DTEND;TZID=America/New_York:20250619T150000
DTSTAMP:20250528T160530Z
URL:https://mariettaohio.org/events/blennerhassett-island-cruise-on-the-va
 lley-gem/
SUMMARY:Blennerhassett Island Cruise on the Valley Gem
DESCRIPTION:Enjoy a cruise to scenic and historic Blennerhassett Island. Th
 e trip includes a two hour cruise from Marietta to the Island with a full 
 breakfast\, two hours on the Island with a mansion tour\, and lunch served
  during the two hour cruise back. $78 per person includes the cruise\, man
 sion tour\, breakfast and lunch. Reservations are required.\n\nJune 19 and
  July 17\, 9am to 3pm\n\nBook online at www.valleygemsternwheeler.com or c
 all 740-373-7862
ATTACH;FMTTYPE=image/jpeg:https://mariettaohio.org/wp-content/uploads/2025
 /05/Blennerhassett-Island-Web-Land.jpg
CATEGORIES:Events
LOCATION:Valley Gem Sternwheeler\, 601 Front St\, Marietta\, Ohio\, 45750\,
  United States
GEO:39.421017;-81.463989
X-APPLE-STRUCTURED-LOCATION;VALUE=URI;X-ADDRESS=601 Front St\, Marietta\, O
 hio\, 45750\, United States;X-APPLE-RADIUS=100;X-TITLE=Valley Gem Sternwhe
 eler:geo:39.421017,-81.463989
END:VEVENT
BEGIN:VTIMEZONE
TZID:America/New_York
X-LIC-LOCATION:America/New_York
BEGIN:DAYLIGHT
DTSTART:20250309T030000
TZOFFSETFROM:-0500
TZOFFSETTO:-0400
TZNAME:EDT
END:DAYLIGHT
END:VTIMEZONE
END:VCALENDAR