BEGIN:VCALENDAR
VERSION:2.0
PRODID:-//wp-events-plugin.com//7.2.3.1//EN
TZID:America/New_York
X-WR-TIMEZONE:America/New_York
BEGIN:VEVENT
UID:3050@mariettaohio.org
DTSTART;TZID=America/New_York:20260613T200000
DTEND;TZID=America/New_York:20260614T000000
DTSTAMP:20260416T125353Z
URL:https://mariettaohio.org/events/billy-brown-band/
SUMMARY:Billy Brown Band
DESCRIPTION:Billy Brown: SONY-signed country rocker with small-town grit. H
 igh-energy shows\, hit songs\, and major tour credits—don’t miss him l
 ive.\n\nForged in fire from his small-town roots and rebel soul\, recently
  SONY signed artist\, Billy Brown brings his very own flavor to country mu
 sic. With trailblazers like John Denver and The Oak Ridge Boys as musical 
 influencers along his path\, accompanied by his career start in the church
  taking notes from Michael W. Smith\, and incorporating his love for South
 ern rock\, he truly breaks the genre barriers\, blurring the lines and app
 ealing to everyone. Though he is born and raised a Kentucky local\, he has
  traveled across the world performing in iconic venues from Nashville all 
 the way to Belize\, such as The Grizzly Rose\, Ole Red\, Honky Tonk Centra
 l\, Old Crow Smokehouse and Loser’s Bar &amp\; Grill. Billy Brown’s mu
 sic falls in line with contemporary Nashville country\, while maintaining 
 an unapologetic\, small-town\, familiar grit we all can relate to. Opening
  for artists such as Lainey Wilson\, Jimmie Allen\, Clay Walker\, Craig Mo
 rgan\, Chris Janson\, Lauren Alaina\, Cadillac Three\, Rodney Adkins\, Tra
 cy Byrd\, Foreigner and several others\, he is quickly gaining recognition
 . Best known for his hits\, “She’s My Girl” and “Middle of a Count
 ry Night\,” this is an up-and-coming artist you don’t want to miss!\n\
 nBuy Tickets
ATTACH;FMTTYPE=image/jpeg:https://mariettaohio.org/wp-content/uploads/2026
 /04/WEBSITE_FEATURE-3.jpg
CATEGORIES:Music
LOCATION:The Adelphia Music Hall\, 205 2nd St\, Marietta\, OH\, 45750\, Uni
 ted States
GEO:39.413719;-81.453701
X-APPLE-STRUCTURED-LOCATION;VALUE=URI;X-ADDRESS=205 2nd St\, Marietta\, OH\
 , 45750\, United States;X-APPLE-RADIUS=100;X-TITLE=The Adelphia Music Hall
 :geo:39.413719,-81.453701
END:VEVENT
BEGIN:VTIMEZONE
TZID:America/New_York
X-LIC-LOCATION:America/New_York
BEGIN:DAYLIGHT
DTSTART:20260308T030000
TZOFFSETFROM:-0500
TZOFFSETTO:-0400
TZNAME:EDT
END:DAYLIGHT
END:VTIMEZONE
END:VCALENDAR