BEGIN:VCALENDAR
VERSION:2.0
PRODID:-//wp-events-plugin.com//7.2.3.1//EN
TZID:America/New_York
X-WR-TIMEZONE:America/New_York
BEGIN:VEVENT
UID:3018@mariettaohio.org
DTSTART;TZID=America/New_York;VALUE=DATE:20260822
DTEND;TZID=America/New_York;VALUE=DATE:20260823
DTSTAMP:20260401T180957Z
URL:https://mariettaohio.org/events/beverly-waterford-sweetcorn-festival/
SUMMARY:Beverly-Waterford Sweetcorn Festival
DESCRIPTION:Mark your calendar and head to Beverly on August 22nd for the 3
 rd Annual Beverly-Waterford Sweetcorn Festival!\n\nFestivities include liv
 e music\, BINGO\, a sweetcorn eating contest\, and old-fashioned sack race
 s! Feast on grilled corn from Witten's Farm\, hot dogs and hamburgers\, an
 d homemade apple dumplings with vanilla ice cream.\nMusic Lineup: To be an
 nounced but be sure to bring your own chair!
ATTACH;FMTTYPE=image/jpeg:https://mariettaohio.org/wp-content/uploads/2026
 /04/SharedScreenshot.jpg
CATEGORIES:Children,Community,Events,Family,Festivals
LOCATION:Dodge Park\, 4 OH-339\, Beverly\, Ohio\, 45715\, United States
X-APPLE-STRUCTURED-LOCATION;VALUE=URI;X-ADDRESS=4 OH-339\, Beverly\, Ohio\,
  45715\, United States;X-APPLE-RADIUS=100;X-TITLE=Dodge Park:geo:0,0
END:VEVENT
BEGIN:VTIMEZONE
TZID:America/New_York
X-LIC-LOCATION:America/New_York
BEGIN:DAYLIGHT
DTSTART:20260308T030000
TZOFFSETFROM:-0500
TZOFFSETTO:-0400
TZNAME:EDT
END:DAYLIGHT
END:VTIMEZONE
END:VCALENDAR