BEGIN:VCALENDAR
VERSION:2.0
PRODID:-//wp-events-plugin.com//7.2.3.1//EN
TZID:America/New_York
X-WR-TIMEZONE:America/New_York
BEGIN:VEVENT
UID:2107@mariettaohio.org
DTSTART;TZID=America/New_York:20250527T200000
DTEND;TZID=America/New_York:20250527T220000
DTSTAMP:20250211T161545Z
URL:https://mariettaohio.org/events/benatar-giraldo/
SUMMARY:Benatar &amp\; Giraldo
DESCRIPTION:In a pop culture world defined by its perpetual changes\, the p
 artnership of singer songwriter Pat Benatar and producer-musician Neil Gir
 aldo has been a potent\, steadfast union that has soared to the top of the
  charts and into fans’ hearts on their own terms. Her staggering vocals 
 and take-no-prisoners attitude\, along with his trailblazing artistry as a
  guitarist\, producer and songwriter\, forged the undeniable chemistry and
  unique sound that created eternal rock hits including “We Belong\,” 
 “Invincible\,” “Love Is A Battlefield\,” “Promises In The Dark\,
 ” “We Live For Love\,” “Heartbreaker” and “Hell Is For Childre
 n.”\n\nTheir stunning achievements are a testament to their vision. Toge
 ther\, Benatar and Giraldo have created two multi-platinum\, five platinum
  and three gold albums\, as well as 19 Top 40 hits. They have sold over 36
  million records worldwide and have won an unprecedented four consecutive 
 GRAMMY® awards. They have also been feted with three American Music Award
 s\, a People’s Choice Award\, a 2008 induction into the Long Island Musi
 c Hall of Fame\, and most recently have become Rock &amp\; Roll Hall of Fa
 me inductees.
ATTACH;FMTTYPE=image/jpeg:https://mariettaohio.org/wp-content/uploads/2025
 /02/insta.png
CATEGORIES:Arts &amp; Entertainment,Music
LOCATION:Peoples Bank Theatre\, 222 Putnam St\, Marietta\, Ohio\, 45750\, U
 nited States
GEO:39.415852;-81.453433
X-APPLE-STRUCTURED-LOCATION;VALUE=URI;X-ADDRESS=222 Putnam St\, Marietta\, 
 Ohio\, 45750\, United States;X-APPLE-RADIUS=100;X-TITLE=Peoples Bank Theat
 re:geo:39.415852,-81.453433
END:VEVENT
BEGIN:VTIMEZONE
TZID:America/New_York
X-LIC-LOCATION:America/New_York
BEGIN:DAYLIGHT
DTSTART:20250309T030000
TZOFFSETFROM:-0500
TZOFFSETTO:-0400
TZNAME:EDT
END:DAYLIGHT
END:VTIMEZONE
END:VCALENDAR