BEGIN:VCALENDAR
VERSION:2.0
PRODID:-//wp-events-plugin.com//7.2.3.1//EN
TZID:America/New_York
X-WR-TIMEZONE:America/New_York
BEGIN:VEVENT
UID:2989@mariettaohio.org
DTSTART;TZID=America/New_York;VALUE=DATE:20260806
DTEND;TZID=America/New_York;VALUE=DATE:20260810
DTSTAMP:20260401T155319Z
URL:https://mariettaohio.org/events/belpre-homecoming-festival/
SUMMARY:Belpre Homecoming Festival
DESCRIPTION:A 4-day annual tradition held the first full weekend in August 
 at Civitan Park—featuring food\, music\, rides\, parades &amp\; fun for 
 all ages! 🎡🎶🌭Save the Date: August 6–9\, 2026!
ATTACH;FMTTYPE=image/jpeg:https://mariettaohio.org/wp-content/uploads/2026
 /04/578264907_1251903576980909_8467505653709139708_n.jpg
CATEGORIES:Community,Family,Festivals,Music,Outdoor Recreation
LOCATION:Belpre Civitan Park\, 1500 Blennerhassett Avenue\, Belpre\, Ohio\,
  45714\, United States
X-APPLE-STRUCTURED-LOCATION;VALUE=URI;X-ADDRESS=1500 Blennerhassett Avenue\
 , Belpre\, Ohio\, 45714\, United States;X-APPLE-RADIUS=100;X-TITLE=Belpre 
 Civitan Park:geo:0,0
END:VEVENT
BEGIN:VTIMEZONE
TZID:America/New_York
X-LIC-LOCATION:America/New_York
BEGIN:DAYLIGHT
DTSTART:20260308T030000
TZOFFSETFROM:-0500
TZOFFSETTO:-0400
TZNAME:EDT
END:DAYLIGHT
END:VTIMEZONE
END:VCALENDAR