BEGIN:VCALENDAR
VERSION:2.0
PRODID:-//wp-events-plugin.com//7.2.3.1//EN
TZID:America/New_York
X-WR-TIMEZONE:America/New_York
BEGIN:VEVENT
UID:550@mariettaohio.org
DTSTART;TZID=America/New_York:20230805T070000
DTEND;TZID=America/New_York:20230805T230000
DTSTAMP:20230316T154101Z
URL:https://mariettaohio.org/events/belpre-homecoming-3/
SUMMARY:Belpre Homecoming
DESCRIPTION:Belpre Homecoming has been a tradition since 1932\, and has gro
 wn from its origins of potluck dinners\, to include rides\, vendors\, an
 d a full variety of FREE live entertainment. All at no cost to the public.
 \n​Celebrating over 90 years\, this three-day event isn't one you will
  want to miss this year! Come home to Belpre and celebrate and catch up wi
 th old friends\, neighbors\, and alumni.
ATTACH;FMTTYPE=image/jpeg:https://mariettaohio.org/wp-content/uploads/2023
 /03/327202419_844341976849559_2424350051138449927_n.jpg
CATEGORIES:Arts &amp;
 Entertainment,Community,Events,Featured,Festivals,Music
LOCATION:Belpre Civitan Park\, 1500 Blennerhassett Avenue\, Belpre\, Ohio\,
  45714\, United States
X-APPLE-STRUCTURED-LOCATION;VALUE=URI;X-ADDRESS=1500 Blennerhassett Avenue\
 , Belpre\, Ohio\, 45714\, United States;X-APPLE-RADIUS=100;X-TITLE=Belpre 
 Civitan Park:geo:0,0
END:VEVENT
BEGIN:VTIMEZONE
TZID:America/New_York
X-LIC-LOCATION:America/New_York
BEGIN:DAYLIGHT
DTSTART:20230312T030000
TZOFFSETFROM:-0500
TZOFFSETTO:-0400
TZNAME:EDT
END:DAYLIGHT
END:VTIMEZONE
END:VCALENDAR