BEGIN:VCALENDAR
VERSION:2.0
PRODID:-//wp-events-plugin.com//7.2.3.1//EN
TZID:America/New_York
X-WR-TIMEZONE:America/New_York
BEGIN:VEVENT
UID:3017@mariettaohio.org
DTSTART;TZID=America/New_York;VALUE=DATE:20261201
DTEND;TZID=America/New_York;VALUE=DATE:20270101
DTSTAMP:20260401T174205Z
URL:https://mariettaohio.org/events/belpre-holiday-lights-3/
SUMMARY:Belpre Holiday Lights
DESCRIPTION:
ATTACH;FMTTYPE=image/jpeg:https://mariettaohio.org/wp-content/uploads/2026
 /04/599525883_846551938020692_3282314365570998174_n.jpg
CATEGORIES:Children,Community,Family
END:VEVENT
BEGIN:VTIMEZONE
TZID:America/New_York
X-LIC-LOCATION:America/New_York
BEGIN:STANDARD
DTSTART:20261101T010000
TZOFFSETFROM:-0400
TZOFFSETTO:-0500
TZNAME:EST
END:STANDARD
END:VTIMEZONE
END:VCALENDAR