BEGIN:VCALENDAR
VERSION:2.0
PRODID:-//wp-events-plugin.com//7.2.3.1//EN
TZID:America/New_York
X-WR-TIMEZONE:America/New_York
BEGIN:VEVENT
UID:2845@mariettaohio.org
DTSTART;TZID=America/New_York:20260221T093000
DTEND;TZID=America/New_York:20260221T170000
DTSTAMP:20260211T150225Z
URL:https://mariettaohio.org/events/beginner-photography-workshop/
SUMMARY:Beginner Photography Workshop
DESCRIPTION:From Auto to Manual is a full-day\, in-person photography works
 hop designed for true beginners using DSLR or mirrorless cameras.\nIf you
 ’ve ever felt intimidated by your camera or stuck shooting in Auto mode\
 , this hands-on workshop will help you finally understand how your camera 
 works and how to confidently shoot in Manual mode.\nYou’ll learn:\n• H
 ow ISO\, aperture\, and shutter speed work together\n• How to control li
 ght\, motion\, and focus\n• Basic composition and natural light techniqu
 es\n• How to shoot with intention instead of guessing\nThis workshop inc
 ludes guided instruction\, indoor studio practice\, outdoor shooting\, and
  real-time feedback from professional photographer Lori Hanson.\nDetails:\
 n📅 February 21\, 2026\n🕤 9:30 AM – 5:00 PM\n📍 Lori Friend Studi
 os - Hansons Enhancements | Marietta\, Ohio\n💵 $165 (includes lunch &am
 p\; snacks)\nImportant:\n• DSLR or mirrorless camera required (no phone-
 only photography)\n• No editing instruction included\n• Limited to 25 
 students\n👉 Registration required: https://square.link/u/kG9qgpV3
ATTACH;FMTTYPE=image/jpeg:https://mariettaohio.org/wp-content/uploads/2026
 /02/workshop.jpg
CATEGORIES:Events
LOCATION:Hansons Enhancements Photography\, 3703 Warren Chapel Road\, Marie
 tta\, OH\, 45750\, United States
X-APPLE-STRUCTURED-LOCATION;VALUE=URI;X-ADDRESS=3703 Warren Chapel Road\, M
 arietta\, OH\, 45750\, United States;X-APPLE-RADIUS=100;X-TITLE=Hansons En
 hancements Photography:geo:0,0
END:VEVENT
BEGIN:VTIMEZONE
TZID:America/New_York
X-LIC-LOCATION:America/New_York
BEGIN:STANDARD
DTSTART:20251102T010000
TZOFFSETFROM:-0400
TZOFFSETTO:-0500
TZNAME:EST
END:STANDARD
END:VTIMEZONE
END:VCALENDAR