BEGIN:VCALENDAR
VERSION:2.0
PRODID:-//wp-events-plugin.com//7.2.3.1//EN
TZID:America/New_York
X-WR-TIMEZONE:America/New_York
BEGIN:VEVENT
UID:1722@mariettaohio.org
DTSTART;TZID=America/New_York:20240815T180000
DTEND;TZID=America/New_York:20240815T230000
DTSTAMP:20240725T154502Z
URL:https://mariettaohio.org/events/bath-bomb-bash/
SUMMARY:Bath Bomb Bash
DESCRIPTION:Join us for the Bath Bomb Painting Bash on Thursday\, August 15
 th!\n\nGet ready for a colorful and relaxing evening at our in-person Bath
  Bomb Painting Bash with small business owner Alisha Riddle of Salt &amp\;
  Shea Soap.\n\nYour ticket includes:\n• Two all-natural bath bombs\n• 
 Art supplies\n• A welcoming cocktail\n• Hurry! Tickets are extremely l
 imited!\n\nSalt &amp\; Shea Soap was established in 2017 in Waverly\, West
  Virginia by shop owner Alisha Riddle. Salt &amp\; Shea Soap came to life 
 as a small batch\, handmade\, and all natural approach to the best bath go
 odies. Salt &amp\; Shea Soap is designed to keep bath time relaxing withou
 t the worry or hassle of chemicals &amp\; dyes. Since the beginning\, they
  now have a full line of goats milk soaps\, whipped body scrubs\, lotions\
 , foaming pump soaps\, shampoo bars\, and more! They are always remembered
  for our unique shapes &amp\; handpainted bath bombs.
ATTACH;FMTTYPE=image/jpeg:https://mariettaohio.org/wp-content/uploads/2024
 /07/bbb_socialmedia.jpg
CATEGORIES:Events
LOCATION:The Galley\, 203 2nd Street \, Marietta\, Ohio\, 45750\, United St
 ates
X-APPLE-STRUCTURED-LOCATION;VALUE=URI;X-ADDRESS=203 2nd Street \, Marietta\
 , Ohio\, 45750\, United States;X-APPLE-RADIUS=100;X-TITLE=The Galley:geo:0
 ,0
END:VEVENT
BEGIN:VTIMEZONE
TZID:America/New_York
X-LIC-LOCATION:America/New_York
BEGIN:DAYLIGHT
DTSTART:20240310T030000
TZOFFSETFROM:-0500
TZOFFSETTO:-0400
TZNAME:EDT
END:DAYLIGHT
END:VTIMEZONE
END:VCALENDAR