BEGIN:VCALENDAR
VERSION:2.0
PRODID:-//wp-events-plugin.com//7.2.3.1//EN
TZID:America/New_York
X-WR-TIMEZONE:America/New_York
BEGIN:VEVENT
UID:3000@mariettaohio.org
DTSTART;TZID=America/New_York;VALUE=DATE:20260930
DTEND;TZID=America/New_York;VALUE=DATE:20261005
DTSTAMP:20260401T164348Z
URL:https://mariettaohio.org/events/barlow-fair-5/
SUMMARY:Barlow Fair
DESCRIPTION:The Barlow Fair is Ohio’s Oldest Continuously-Running Indepen
 dent Fair!
ATTACH;FMTTYPE=image/jpeg:https://mariettaohio.org/wp-content/uploads/2026
 /04/BarlowFairRide-800x496-1-800x450-1.jpg
CATEGORIES:Community,Family,Festivals
LOCATION:Barlow Fairgrounds\, State Route 339 &amp\; OH-550\, Barlow\, Ohio
 \, 45712\, United States
X-APPLE-STRUCTURED-LOCATION;VALUE=URI;X-ADDRESS=State Route 339 & OH-550\, 
 Barlow\, Ohio\, 45712\, United States;X-APPLE-RADIUS=100;X-TITLE=Barlow Fa
 irgrounds:geo:0,0
END:VEVENT
BEGIN:VTIMEZONE
TZID:America/New_York
X-LIC-LOCATION:America/New_York
BEGIN:DAYLIGHT
DTSTART:20260308T030000
TZOFFSETFROM:-0500
TZOFFSETTO:-0400
TZNAME:EDT
END:DAYLIGHT
END:VTIMEZONE
END:VCALENDAR