BEGIN:VCALENDAR
VERSION:2.0
PRODID:-//wp-events-plugin.com//7.2.3.1//EN
TZID:America/New_York
X-WR-TIMEZONE:America/New_York
BEGIN:VEVENT
UID:2101@mariettaohio.org
DTSTART;TZID=America/New_York:20250516T200000
DTEND;TZID=America/New_York:20250516T220000
DTSTAMP:20250203T153706Z
URL:https://mariettaohio.org/events/ashley-mcbryde/
SUMMARY:Ashley McBryde
DESCRIPTION:GRAMMY\, CMA and ACM award winner Ashley McBryde cut her teeth 
 playing country songs in biker bars – and it shows. The Grand Ole Opry m
 ember’s 2018 major label debut Girl Going Nowhere (Warner Music Nashvill
 e) charmed The New York Times\, NPR\, Rolling Stone\, Paste\, The Washingt
 on Post and more\, all en route to landing a GRAMMY nomination for Best Co
 untry Album.\nMcBryde closed out 2019 with ACM New Female Artist\, CMT Bre
 akout Artist\, a New Artist of the Year win at the 53rd Annual CMA Awards 
 and two nominations for the 2020 GRAMMYs for Best Country Song and Best Co
 untry Solo Performance for “Girl Goin’ Nowhere.” Her follow-up Never
  Will was tagged by Rolling Stone as one of the most anticipated of the ye
 ar alongside NPR\, who also ranked her Top 10 RIAA Platinum-Certified sing
 le “One Night Standards” as one of the best songs of 2019. The album e
 arned McBryde a 2021 GRAMMY nomination for Best Country Album\, making Nev
 er Will the only album nominated for Country Album of the Year by the ACMs
 \, CMAs and the Recording Academy in the same award season. Her GRAMMY-win
 ning duet with Carly Pearce\, “Never Wanted To Be That Girl\,” went al
 l the way to No. 1 and earned McBryde and Pearce the ACM and CMA award for
  Musical Event of the Year.\n\nMcBryde was also honored with the 2022 CMA 
 International Artist Achievement Award for the most significant creative g
 rowth\, development and promotion of the country music industry outside of
  the United States. Her collaborative project Ashley McBryde Presents: Lin
 deville featuring Brothers Osborne\, Brandy Clark\, Pillbox Patti\, Caylee
  Hammack\, Aaron Raitiere and Benjy Davis earned McBryde her third consecu
 tive GRAMMY nomination for Best Country Album\, making her a six-time GRAM
 MY nominee. Upon its release\, Ashley McBryde Presents: Lindeville garnere
 d applause from The New York Times\, NPR\, Variety\, Vulture\, Esquire\, R
 olling Stone\, Billboard and Stereogum\, among many more. With 11 songs al
 l co-written by the Arkansas native\, The Devil I Know is available now\, 
 featuring chart-climbing lead single “Light On In The Kitchen” and cur
 rent single “The Devil I Know”. For more information\, visit Ashley Mc
 Bryde.com or follow her on Facebook\, Instagram\, Twitter\, TikTok and You
 Tube.
ATTACH;FMTTYPE=image/jpeg:https://mariettaohio.org/wp-content/uploads/2025
 /02/ashley-social-post-1.png
CATEGORIES:Arts &amp; Entertainment,Events,Music
LOCATION:Peoples Bank Theatre\, 222 Putnam St\, Marietta\, Ohio\, 45750\, U
 nited States
GEO:39.415852;-81.453433
X-APPLE-STRUCTURED-LOCATION;VALUE=URI;X-ADDRESS=222 Putnam St\, Marietta\, 
 Ohio\, 45750\, United States;X-APPLE-RADIUS=100;X-TITLE=Peoples Bank Theat
 re:geo:39.415852,-81.453433
END:VEVENT
BEGIN:VTIMEZONE
TZID:America/New_York
X-LIC-LOCATION:America/New_York
BEGIN:DAYLIGHT
DTSTART:20250309T030000
TZOFFSETFROM:-0500
TZOFFSETTO:-0400
TZNAME:EDT
END:DAYLIGHT
END:VTIMEZONE
END:VCALENDAR