BEGIN:VCALENDAR
VERSION:2.0
PRODID:-//wp-events-plugin.com//7.2.3.1//EN
TZID:America/New_York
X-WR-TIMEZONE:America/New_York
BEGIN:VEVENT
UID:1514@mariettaohio.org
DTSTART;TZID=America/New_York:20240727T200000
DTEND;TZID=America/New_York:20240727T220000
DTSTAMP:20240430T124451Z
URL:https://mariettaohio.org/events/arrival-from-sweden-the-music-of-abba/
SUMMARY:ARRIVAL FROM SWEDEN: THE MUSIC OF ABBA
DESCRIPTION:The 10-12 piece band ARRIVAL from Sweden in the production THE 
 MUSIC OF ABBA was founded by Vicky Zetterberg-Norbäck and the ABBA origin
 al musician Rutger Gunnarsson in 1995 in Gothenburg\, Sweden and very soon
  became one of the world’s most popular and most selling ABBA show bands
 . Since the start in 1995 the band has toured in over 80 countries\, done 
 almost 120 successful USA tours\, played with over 120 Symphony Orchestras
  all over the world and has appeared in several TV and radio shows all ove
 r the world. Selling out arenas seated up to 50 000 people. Millions of ti
 ckets sold.
ATTACH;FMTTYPE=image/jpeg:https://mariettaohio.org/wp-content/uploads/2024
 /04/400X495-2.png
CATEGORIES:Events
LOCATION:Peoples Bank Theatre\, 222 Putnam St\, Marietta\, Ohio\, 45750\, U
 nited States
GEO:39.415852;-81.453433
X-APPLE-STRUCTURED-LOCATION;VALUE=URI;X-ADDRESS=222 Putnam St\, Marietta\, 
 Ohio\, 45750\, United States;X-APPLE-RADIUS=100;X-TITLE=Peoples Bank Theat
 re:geo:39.415852,-81.453433
END:VEVENT
BEGIN:VTIMEZONE
TZID:America/New_York
X-LIC-LOCATION:America/New_York
BEGIN:DAYLIGHT
DTSTART:20240310T030000
TZOFFSETFROM:-0500
TZOFFSETTO:-0400
TZNAME:EDT
END:DAYLIGHT
END:VTIMEZONE
END:VCALENDAR