BEGIN:VCALENDAR
VERSION:2.0
PRODID:-//wp-events-plugin.com//7.2.3.1//EN
TZID:America/New_York
X-WR-TIMEZONE:America/New_York
BEGIN:VEVENT
UID:2988@mariettaohio.org
DTSTART;TZID=America/New_York:20260727T060000
DTEND;TZID=America/New_York:20260730T080000
DTSTAMP:20260401T153123Z
URL:https://mariettaohio.org/events/archaeology-field-school-2/
SUMMARY:Archaeology Field School
DESCRIPTION:The Castle’s Archaeology Field School is geared for high scho
 ol age students and adults. This week-long experience will begin with intr
 oductory discussions and hands-on activities regarding the goals and metho
 ds of modern archaeology. Field work activity will be at a moderate pace t
 hat can be geared to the preference of each participant. We will be excava
 ting a real archaeological site\, processing the recovered artifacts\, and
  discussing what they tell us about past human activity. This is a great o
 pportunity for adults and students to participate in an archaeology projec
 t led by professional archaeologist Wes Clarke.\nCampers (High School Age 
 Students &amp\; Adults): Monday through Thursday\, 6:00 - 8:00 p.m.\nCampe
 r Registration: $50 per Individual\nPre-registration required by July 10\
 , 2026 at 4:00 pm.\n(For a full refund\, cancellations must occur 2 weeks 
 in advance – July 13.)\nFor more questions or for more information\, ple
 ase contact our Education Director Kyle Yoho at education@mariettacastle.
 org.\nRegister and pay now!
ATTACH;FMTTYPE=image/jpeg:https://mariettaohio.org/wp-content/uploads/2026
 /04/ArchaeologyFieldSchool.webp
CATEGORIES:Education,Events
LOCATION:The Castle\, 418 Fourth Street\, Marietta\, Ohio\, United States
GEO:39.4205438;-81.4548917
X-APPLE-STRUCTURED-LOCATION;VALUE=URI;X-ADDRESS=418 Fourth Street\, Mariett
 a\, Ohio\, United States;X-APPLE-RADIUS=100;X-TITLE=The Castle:geo:39.4205
 438,-81.4548917
END:VEVENT
BEGIN:VTIMEZONE
TZID:America/New_York
X-LIC-LOCATION:America/New_York
BEGIN:DAYLIGHT
DTSTART:20260308T030000
TZOFFSETFROM:-0500
TZOFFSETTO:-0400
TZNAME:EDT
END:DAYLIGHT
END:VTIMEZONE
END:VCALENDAR