BEGIN:VCALENDAR
VERSION:2.0
PRODID:-//wp-events-plugin.com//7.2.3.1//EN
TZID:America/New_York
X-WR-TIMEZONE:America/New_York
BEGIN:VEVENT
UID:2984@mariettaohio.org
DTSTART;TZID=America/New_York:20260713T090000
DTEND;TZID=America/New_York:20260716T110000
DTSTAMP:20260401T160017Z
URL:https://mariettaohio.org/events/archaeology-camp-2/
SUMMARY:Archaeology Camp
DESCRIPTION:This year's camp is full. We do encourage anyone interested in
  registering a camper to call us at 740-373-4180 to be placed on the waiti
 ng list.\nThe Castle’s Archaeology Camp is for students entering grades 
 6th-8th. Campers will experience a real archaeological dig on the site of 
 one of the oldest pottery manufacturing sites in Ohio\, learn how archaeol
 ogists sort and sift for objects\, and examine and identify artifacts! Lea
 ding this camp will be professional archaeologist Wes Clarke.\nCampers (St
 udents Entering Grades 6th – 8th in Fall 2026)\nJuly 13 -16\, 2026: Mond
 ay through Thursday from 9:00 am - 11:00 am\nCamper Registration: $50 per 
 Individual\nLimited scholarships available. Space is limited. Pre-registra
 tion required by June 26 at 4:00 pm.\n(For a full refund\, cancellations m
 ust occur 2 weeks in advance – June 29.)\nFor more questions or for more
  information\, please contact our Education Director Kyle Yoho at educatio
 n@mariettacastle.org.
ATTACH;FMTTYPE=image/jpeg:https://mariettaohio.org/wp-content/uploads/2026
 /04/Archaeology-Camp.webp
CATEGORIES:Children,Education
LOCATION:The Castle\, 418 Fourth Street\, Marietta\, Ohio\, United States
GEO:39.4205438;-81.4548917
X-APPLE-STRUCTURED-LOCATION;VALUE=URI;X-ADDRESS=418 Fourth Street\, Mariett
 a\, Ohio\, United States;X-APPLE-RADIUS=100;X-TITLE=The Castle:geo:39.4205
 438,-81.4548917
END:VEVENT
BEGIN:VTIMEZONE
TZID:America/New_York
X-LIC-LOCATION:America/New_York
BEGIN:DAYLIGHT
DTSTART:20260308T030000
TZOFFSETFROM:-0500
TZOFFSETTO:-0400
TZNAME:EDT
END:DAYLIGHT
END:VTIMEZONE
END:VCALENDAR