BEGIN:VCALENDAR
VERSION:2.0
PRODID:-//wp-events-plugin.com//7.2.3.1//EN
TZID:America/New_York
X-WR-TIMEZONE:America/New_York
BEGIN:VEVENT
UID:941@mariettaohio.org
DTSTART;TZID=America/New_York:20240824T090000
DTEND;TZID=America/New_York:20240824T170000
DTSTAMP:20230728T172831Z
URL:https://mariettaohio.org/events/antiques-and-boutique-market-at-the-ba
 rn-at-white-pine-acres/
SUMMARY:Antiques and Boutique Market at the Barn at White Pine Acres
DESCRIPTION:Antiques and Boutique Market at the Barn at White Pine Acres. 8
 /24/2024 9-5PM\n\nLive Music\, Charity Drive for Nonprofits and 130 vendor
 s Artisan\, Boutiques and Antiques from Ohio and West Virginia.\n\nFor mor
 e information\, email Emily @rosebarnwv@gmail.com
ATTACH;FMTTYPE=image/jpeg:https://mariettaohio.org/wp-content/uploads/2023
 /07/Rose-Barn.jpg
CATEGORIES:Events
END:VEVENT
BEGIN:VTIMEZONE
TZID:America/New_York
X-LIC-LOCATION:America/New_York
BEGIN:DAYLIGHT
DTSTART:20240310T030000
TZOFFSETFROM:-0500
TZOFFSETTO:-0400
TZNAME:EDT
END:DAYLIGHT
END:VTIMEZONE
END:VCALENDAR