BEGIN:VCALENDAR
VERSION:2.0
PRODID:-//wp-events-plugin.com//7.2.3.1//EN
TZID:America/New_York
X-WR-TIMEZONE:America/New_York
BEGIN:VEVENT
UID:927@mariettaohio.org
DTSTART;TZID=America/New_York:20230926T183000
DTEND;TZID=America/New_York:20230926T203000
DTSTAMP:20230710T180933Z
URL:https://mariettaohio.org/events/annual-garden-party-fundraiser/
SUMMARY:Annual Garden Party Fundraiser
DESCRIPTION:t’s a party! Enjoy the relaxed atmosphere of a garden party s
 urrounded by the beautiful landscape of The Castle! Ticket holders will en
 joy light refreshments\, live music\, and complimentary tours of the museu
 m. This is your chance to learn more about our top-notch educational and e
 ntertainment opportunities and meet our staff and board. This fun social o
 ccasion is a benefit to support The Castle’s mission of preservation and
  education. We look forward to seeing you!\n\nCost: $50 per Person.\nFesti
 ve tent attire encouraged!\nSeptember 26 from 6:30pm-8:30pm\n\nhttps://mar
 iettacastle.org/events/
ATTACH;FMTTYPE=image/jpeg:https://mariettaohio.org/wp-content/uploads/2023
 /07/Screenshot-2023-07-07-at-2.19.48-PM.png
CATEGORIES:Arts &amp;
 Entertainment,Community,Events,Featured,Historical,Music,Tours
LOCATION:The Castle\, 418 Fourth Street\, Marietta\, Ohio\, United States
GEO:39.4205438;-81.4548917
X-APPLE-STRUCTURED-LOCATION;VALUE=URI;X-ADDRESS=418 Fourth Street\, Mariett
 a\, Ohio\, United States;X-APPLE-RADIUS=100;X-TITLE=The Castle:geo:39.4205
 438,-81.4548917
END:VEVENT
BEGIN:VTIMEZONE
TZID:America/New_York
X-LIC-LOCATION:America/New_York
BEGIN:DAYLIGHT
DTSTART:20230312T030000
TZOFFSETFROM:-0500
TZOFFSETTO:-0400
TZNAME:EDT
END:DAYLIGHT
END:VTIMEZONE
END:VCALENDAR