BEGIN:VCALENDAR
VERSION:2.0
PRODID:-//wp-events-plugin.com//7.2.3.1//EN
TZID:America/New_York
X-WR-TIMEZONE:America/New_York
BEGIN:VEVENT
UID:928@mariettaohio.org
DTSTART;TZID=America/New_York:20230722T110000
DTEND;TZID=America/New_York:20230722T140000
DTSTAMP:20230713T123418Z
URL:https://mariettaohio.org/events/amputee-fun-fest/
SUMMARY:Amputee Fun Fest
DESCRIPTION:We are planning something big for you right here in Parkersburg
 \, WV. We are holding our first ever Amputee Fun Fest on July 22\, 2023 fr
 om 11 am - 6 pm at The Amputee Center. 2311 Ohio Ave. Parkersburg\, WV 261
 01\n\nWe are even CLOSING THE ROAD to party in the street! Thanks to the M
 emorial Bridge temporary closure\, this is a once in a lifetime chance to 
 close that road. You will find a stage and food trucks on the road right i
 n front of The Amputee Center. We will also have a variety of vendors in o
 ur parking lot. Inside you can buy Amputee Center Merchandise and check ou
 t all that The Amputee Center has to offer.\n\nThere will be live music on
  the stage: Chip and Amanda Goble\, Soph Stevens and Levi and Hanna Westfa
 ll. We also will have Dave Whelan from Cincinnati as our guest speaker. Da
 ve is a Paratriathlete and he is working to be in the 2028 Paralympics.\n\
 nWe will have many volunteers on hand to help you. Parking is available be
 hind The Amputee Center and across the street at The American Legion. We w
 ill also have golf carts to take you from your parked car to the festival 
 area. You can bring a chair for the band\, but we will also have some avai
 lable. If it's a hot day\, you can come inside to cool down.\n\nWe encoura
 ge you to register as an attendee so we can communicate any changes and be
  prepared to help you with parking. To register\, go to www.TheAmputeeCent
 er.com/amputee-fun-fest If you have any questions\, just call The Amputee 
 Center at 304-699-4909.\nThis is event is focused on the limb loss communi
 ty but is open to everyone.\n\nIt will be FUN for you and a FUNdraiser for
  The Amputee Center. If you know anyone who would like to be a sponsor\, v
 endor or make a donation\, they can go to https://www.theamputeecenter.com
 /amputee-fun-fest to help out.\n\nThe Amputee Center is a 501c3 non-profit
 . The Amputee Center is a place where amputees and community members at al
 l levels of ability feel welcomed and motivated to exercise\, improve thei
 r physical and emotional health and learn about resources available to the
 m.
CATEGORIES:Community,Events,Festivals,Music
LOCATION:The Amputee Center\, 2311 Ohio Ave \, Parkersburg\, WV\, 26101\, U
 nited States
X-APPLE-STRUCTURED-LOCATION;VALUE=URI;X-ADDRESS=2311 Ohio Ave \, Parkersbur
 g\, WV\, 26101\, United States;X-APPLE-RADIUS=100;X-TITLE=The Amputee Cent
 er:geo:0,0
END:VEVENT
BEGIN:VTIMEZONE
TZID:America/New_York
X-LIC-LOCATION:America/New_York
BEGIN:DAYLIGHT
DTSTART:20230312T030000
TZOFFSETFROM:-0500
TZOFFSETTO:-0400
TZNAME:EDT
END:DAYLIGHT
END:VTIMEZONE
END:VCALENDAR