BEGIN:VCALENDAR
VERSION:2.0
PRODID:-//wp-events-plugin.com//7.2.3.1//EN
TZID:America/New_York
X-WR-TIMEZONE:America/New_York
BEGIN:VEVENT
UID:2074@mariettaohio.org
DTSTART;TZID=America/New_York:20250201T100000
DTEND;TZID=America/New_York:20250201T124500
DTSTAMP:20250108T172850Z
URL:https://mariettaohio.org/events/all-ages-history-camp-2025/
SUMMARY:All Ages History Camp 2025
DESCRIPTION:All Ages History Camp 2025: Defining America 1940 – 1960’s\
 n\nSaturday\, February 1\, 2025\n\nMorning Session: 10am – 11:45am “Th
 e U.S. Enters WWII”\n\nAfternoon Session: 1pm – 2:45pm “1950s &amp\;
  1960s Lifestyle &amp\; Change”\n\nThis event is for all ages. Families\
 , friend groups\, and all are welcome. Our content will be structured for 
 ages 10 and above.\nReservations required by Tues.\, Jan. 28. Space is lim
 ited.\nLimited group sizes.\nIn just one day\, explore the events of 1940 
 – 1960 including the difficulties of WWII and the movements\, change\, a
 nd scientific breakthroughs marking the 1950s and 1960s. Whether you are t
 en\, thirty\, fifty…or beyond\, this fun educational experience is one y
 ou won’t want to miss.\n\nA morning and an afternoon session are availab
 le\, each offering different content and activities. You can sign up for b
 oth at a discounted rate. The morning session includes three classes about
  the impact of WWII to U.S. soldiers and civilians on the homefront. The a
 fternoon session offers three classes about movements\, culture\, and scie
 ntific breakthroughs of the 1950s. In each session\, attendees will rotate
  through all three activities offered.\n\nThe featured activities expand o
 n selected favorites from the previous summer’s History Camp for 3rd- 6t
 h graders. This camp is designed to interest all ages and for cross genera
 tional learning experiences!\n\nRegistration:\nMembers: $25/session\; $45/
 both sessions\n\nNon-Members: $30/session\; $55/both sessions\n\nMember Di
 scount Codes:\nSingle Session Member Discount use Promo Code: HCMEMBER\nBo
 th Session Member Discount use Promo Code: 2HCMEMBER\n\nHere’s what you 
 need to know:\nNon-registered parents/guardians may drop off their camper 
 at the museum and pick them up at the conclusion of the session. If you in
 tend to stay with your camper as a chaperone\, you are required to registe
 r and pay as a participant.\n\nCross-generational participation and family
  group attendance is encouraged. This negates the need to attend as a non-
 participating chaperone.\n\n48 hours notice is required for refunds.\n\nRe
 servations required by Tues.\, Jan. 28. Space is limited.\n\nRegister onli
 ne at: https://www.eventbrite.com/e/all-ages-history-camp-2025-tickets-111
 9014966889
ATTACH;FMTTYPE=image/jpeg:https://mariettaohio.org/wp-content/uploads/2025
 /01/Screen-Shot-2024-12-14-at-9.45.19-AM.png
CATEGORIES:Community,Events,Featured,Historical
LOCATION:The Castle\, 418 Fourth Street\, Marietta\, Ohio\, United States
GEO:39.4205438;-81.4548917
X-APPLE-STRUCTURED-LOCATION;VALUE=URI;X-ADDRESS=418 Fourth Street\, Mariett
 a\, Ohio\, United States;X-APPLE-RADIUS=100;X-TITLE=The Castle:geo:39.4205
 438,-81.4548917
END:VEVENT
BEGIN:VTIMEZONE
TZID:America/New_York
X-LIC-LOCATION:America/New_York
BEGIN:STANDARD
DTSTART:20241103T010000
TZOFFSETFROM:-0400
TZOFFSETTO:-0500
TZNAME:EST
END:STANDARD
END:VTIMEZONE
END:VCALENDAR