BEGIN:VCALENDAR
VERSION:2.0
PRODID:-//wp-events-plugin.com//7.2.3.1//EN
TZID:America/New_York
X-WR-TIMEZONE:America/New_York
BEGIN:VEVENT
UID:2076@mariettaohio.org
DTSTART;TZID=America/New_York:20250308T200000
DTEND;TZID=America/New_York:20250309T000000
DTSTAMP:20250109T174029Z
URL:https://mariettaohio.org/events/90s-rockfest-with-lounge-fly-evil-empi
 re/
SUMMARY:90's Rockfest with Lounge Fly &amp\; Evil Empire
DESCRIPTION:Presale tickets: $20 | Day of show tickets: $25\n\nDoors open a
 t 8:00pm | Show starts at 9:00pm\n\nAll shows are 18+\n\nAll seating is fi
 rst come first served and may be limited\n\nLounge Fly\nThe 90's featured 
 some of the greatest music of the past 50 years\, and 90's Rockfest brings
  you right back to the moment when it all happened. Guitars and grittiness
  ruled the radio and MTV\, and live shows were an energy-filled experience
  that you just had to be part of. '90s Rockfest will transport you back to
  a time when rock reigned supreme and bands brought it live and loud on st
 age. Don't miss the chance to be part of it all again!\n\nLounge Fly is th
 e premier tribute to Stone Temple Pilots\, and provides fans of STP with a
 n authentic musical and visual experience that transports them directly ba
 ck to the 90's. Lounge Fly plays all of the hits and the deep cuts that ma
 de STP one of the greatest rock bands of the 90's (and beyond). Whether yo
 u remember STP from MTV and the radio\, or you're a die-hard fan\, Lounge 
 Fly is a show you do not want to miss.
ATTACH;FMTTYPE=image/jpeg:https://mariettaohio.org/wp-content/uploads/2025
 /01/FEATURE-700x530-1.jpg
CATEGORIES:Music
LOCATION:The Adelphia Music Hall\, 205 2nd St\, Marietta\, OH\, 45750\, Uni
 ted States
GEO:39.413719;-81.453701
X-APPLE-STRUCTURED-LOCATION;VALUE=URI;X-ADDRESS=205 2nd St\, Marietta\, OH\
 , 45750\, United States;X-APPLE-RADIUS=100;X-TITLE=The Adelphia Music Hall
 :geo:39.413719,-81.453701
END:VEVENT
BEGIN:VTIMEZONE
TZID:America/New_York
X-LIC-LOCATION:America/New_York
BEGIN:STANDARD
DTSTART:20241103T010000
TZOFFSETFROM:-0400
TZOFFSETTO:-0500
TZNAME:EST
END:STANDARD
END:VTIMEZONE
END:VCALENDAR