BEGIN:VCALENDAR
VERSION:2.0
PRODID:-//wp-events-plugin.com//7.2.3.1//EN
TZID:America/New_York
X-WR-TIMEZONE:America/New_York
BEGIN:VEVENT
UID:555@mariettaohio.org
DTSTART;TZID=America/New_York:20230908T170000
DTEND;TZID=America/New_York:20230908T230000
DTSTAMP:20230316T162239Z
URL:https://mariettaohio.org/events/47th-ohio-river-sternwheel-festival/
SUMMARY:47th Ohio River Sternwheel Festival
DESCRIPTION:This festival honoring the era of Sternwheel boats transporting
  goods on the Ohio River attracts an estimated 100\,000 people to the Mari
 etta area during the weekend.  In addition to the 30-35 authentic sternwh
 eel boats that line the riverbank\, we offer a full weekend of free\, qual
 ity\, family-oriented entertainment and the best fireworks anywhere. Some 
 of the other events that take place during the weekend include Children’
 s Activities\; the Coronation of Queen Genevieve\, with scholarships award
 ed\; the Little Miss and Little Mr. Sternwheel Pageant\; Sunday Sunrise Se
 rvice\; Rollin’ Oldies Car Show\, and a Photo Contest. Free to the publi
 c.\n\n&nbsp\;\n\n
ATTACH;FMTTYPE=image/jpeg:https://mariettaohio.org/wp-content/uploads/2023
 /03/SWF_logo.jpg
CATEGORIES:Arts &amp;
 Entertainment,Community,Events,Featured,Festivals,Music
LOCATION:Ohio River Levee\, 101 Front Street\, Marietta\, Ohio\, 45750\, Un
 ited States
X-APPLE-STRUCTURED-LOCATION;VALUE=URI;X-ADDRESS=101 Front Street\, Marietta
 \, Ohio\, 45750\, United States;X-APPLE-RADIUS=100;X-TITLE=Ohio River Leve
 e:geo:0,0
END:VEVENT
BEGIN:VTIMEZONE
TZID:America/New_York
X-LIC-LOCATION:America/New_York
BEGIN:DAYLIGHT
DTSTART:20230312T030000
TZOFFSETFROM:-0500
TZOFFSETTO:-0400
TZNAME:EDT
END:DAYLIGHT
END:VTIMEZONE
END:VCALENDAR