BEGIN:VCALENDAR
VERSION:2.0
PRODID:-//wp-events-plugin.com//7.2.3.1//EN
TZID:America/New_York
X-WR-TIMEZONE:America/New_York
BEGIN:VEVENT
UID:2113@mariettaohio.org
DTSTART;TZID=America/New_York:20250523T090000
DTEND;TZID=America/New_York:20250523T090000
DTSTAMP:20250212T161515Z
URL:https://mariettaohio.org/events/200th-anniversary-lafayette-visit-to-m
 arietta/
SUMMARY:200th Anniversary Lafayette visit to Marietta
DESCRIPTION:200th Anniversary Lafayette visit to Marietta\; board the Valle
 y Gem for 2-hour cruise and brunch\; 11am- dock at levee\; Welcome speeche
 s\, walking tour to Nahum Ward property across from Court House and on to 
 Muskingum Park "Ward is grandson of Major Gen. Artemus Ward "(more details
  TBD\, Erin Augenstein\, Director at the Northwest Territory Museum- Campu
 s Martius is local Lafayette coordinator. A full day of celebration is pla
 nned. America 250 &amp\; Color Guard event.\n\n&nbsp\;\n\nFor more informa
 tion\, please contact Marietta Chapter\, Ohio Society\, Sons of the Americ
 an Revolution Secretary Jean Yost at 740-336-8060 or jean.yost@gmail.com\;
  mariettasar.com
ATTACH;FMTTYPE=image/jpeg:https://mariettaohio.org/wp-content/uploads/2025
 /02/334947241_1272832006976930_5622293435421606585_n-3.jpg
CATEGORIES:Events
END:VEVENT
BEGIN:VTIMEZONE
TZID:America/New_York
X-LIC-LOCATION:America/New_York
BEGIN:DAYLIGHT
DTSTART:20250309T030000
TZOFFSETFROM:-0500
TZOFFSETTO:-0400
TZNAME:EDT
END:DAYLIGHT
END:VTIMEZONE
END:VCALENDAR