BEGIN:VCALENDAR
VERSION:2.0
PRODID:-//wp-events-plugin.com//7.2.3.1//EN
TZID:America/New_York
X-WR-TIMEZONE:America/New_York
BEGIN:VEVENT
UID:1133@mariettaohio.org
DTSTART;TZID=America/New_York:20231209T200000
DTEND;TZID=America/New_York:20231209T230000
DTSTAMP:20231027T122532Z
URL:https://mariettaohio.org/events/1988-cover-band-4/
SUMMARY:1988 Cover band
DESCRIPTION:1988 performs the danceable and head banging "big hair" hits of
  the 80's. While other groups have chosen to present themselves in a clown
 -like fashion\, 1988 has stayed true to its 80's roots by paying respectfu
 l tribute to bands like Bon Jovi\, Def Leppard\, Poison\, Motley Crue\, Gu
 ns-N-Roses\, and even Journey. 1988 recreates a show one might have seen o
 n Hollywood's Sunset Strip at the height of the 80's Metal era.\n\n1988 fo
 cuses on pleasing the crowd by playing danceable material without straying
  too far from the 80's Hard Rock theme. Of course\, the 80's were known fo
 r their "monster ballads"\, and there is no shortage of them at a 1988 sho
 w. The band plays several of the biggest ones every night. Not to ignore t
 he aficionado\, 1988 also throws in the head banging classics by Quiet Rio
 t\, Twisted Sister\, Europe\, Scorpions\, and others.\n\nAn opportunity to
  see 1988 is not to be missed. Young or old\, if you want to experience th
 e closest thing to what it was like in the 80's...this is it!
ATTACH;FMTTYPE=image/jpeg:https://mariettaohio.org/wp-content/uploads/2023
 /10/03141-ADL-1988-Social.png
CATEGORIES:Music
LOCATION:The Adelphia Music Hall\, 205 2nd St\, Marietta\, OH\, 45750\, Uni
 ted States
GEO:39.413719;-81.453701
X-APPLE-STRUCTURED-LOCATION;VALUE=URI;X-ADDRESS=205 2nd St\, Marietta\, OH\
 , 45750\, United States;X-APPLE-RADIUS=100;X-TITLE=The Adelphia Music Hall
 :geo:39.413719,-81.453701
END:VEVENT
BEGIN:VTIMEZONE
TZID:America/New_York
X-LIC-LOCATION:America/New_York
BEGIN:STANDARD
DTSTART:20231105T010000
TZOFFSETFROM:-0400
TZOFFSETTO:-0500
TZNAME:EST
END:STANDARD
END:VTIMEZONE
END:VCALENDAR